BEGIN:VCALENDAR
VERSION:2.0
PRODID:-//Musik in St. Katharinen - ECPv6.15.20//NONSGML v1.0//EN
CALSCALE:GREGORIAN
METHOD:PUBLISH
X-WR-CALNAME:Musik in St. Katharinen
X-ORIGINAL-URL:https://stk-musik.de
X-WR-CALDESC:Veranstaltungen für Musik in St. Katharinen
REFRESH-INTERVAL;VALUE=DURATION:PT1H
X-Robots-Tag:noindex
X-PUBLISHED-TTL:PT1H
BEGIN:VTIMEZONE
TZID:Europe/Berlin
BEGIN:DAYLIGHT
TZOFFSETFROM:+0100
TZOFFSETTO:+0200
TZNAME:CEST
DTSTART:20250330T010000
END:DAYLIGHT
BEGIN:STANDARD
TZOFFSETFROM:+0200
TZOFFSETTO:+0100
TZNAME:CET
DTSTART:20251026T010000
END:STANDARD
BEGIN:DAYLIGHT
TZOFFSETFROM:+0100
TZOFFSETTO:+0200
TZNAME:CEST
DTSTART:20260329T010000
END:DAYLIGHT
BEGIN:STANDARD
TZOFFSETFROM:+0200
TZOFFSETTO:+0100
TZNAME:CET
DTSTART:20261025T010000
END:STANDARD
BEGIN:DAYLIGHT
TZOFFSETFROM:+0100
TZOFFSETTO:+0200
TZNAME:CEST
DTSTART:20270328T010000
END:DAYLIGHT
BEGIN:STANDARD
TZOFFSETFROM:+0200
TZOFFSETTO:+0100
TZNAME:CET
DTSTART:20271031T010000
END:STANDARD
END:VTIMEZONE
BEGIN:VEVENT
DTSTART;TZID=Europe/Berlin:20261220T160000
DTEND;TZID=Europe/Berlin:20261220T173000
DTSTAMP:20260421T164340
CREATED:20251209T133733Z
LAST-MODIFIED:20260407T090145Z
UID:10000502-1797782400-1797787800@stk-musik.de
SUMMARY:Jauchzet\, frohlocket!
DESCRIPTION:Johann Sebastian Bach\nJauchzet\, frohlocket BWV 248\,1\nIch freue mich in dir BWV 133\nEhre sei dir Gott gesungen BWV 248\,5\nGloria in excelsis Deo BWV 191 \nAnna Feith\, Sopran\nElisabeth Scholl\, Mezzosopran\nGeorg Poplutz\, Tenor\nChristoph Kögel\, Bass \nKantorei St. Katharinen\nNeumeyer Consort \nMarkus Stein\, Leitung \nMit freundlicher Unterstützung der\n \n  \n 
URL:https://stk-musik.de/event/jauchzet-frohlocket-2/
LOCATION:St. Katharinenkirche\, An der Hauptwache\, Frankfurt\, 60313\, Deutschland
END:VEVENT
BEGIN:VEVENT
DTSTART;TZID=Europe/Berlin:20261220T190000
DTEND;TZID=Europe/Berlin:20261220T203000
DTSTAMP:20260421T164340
CREATED:20251209T133558Z
LAST-MODIFIED:20260407T090102Z
UID:10000501-1797793200-1797798600@stk-musik.de
SUMMARY:Jauchzet\, frohlocket!
DESCRIPTION:Johann Sebastian Bach\nJauchzet\, frohlocket BWV 248\,1\nIch freue mich in dir BWV 133\nEhre sei dir Gott gesungen BWV 248\,5\nGloria in excelsis Deo BWV 191 \nAnna Feith\, Sopran\nElisabeth Scholl\, Mezzosopran\nGeorg Poplutz\, Tenor\nChristoph Kögel\, Bass \nKantorei St. Katharinen\nNeumeyer Consort \nMarkus Stein\, Leitung \nMit freundlicher Unterstützung der\n \n  \n 
URL:https://stk-musik.de/event/jauchzet-frohlocket/
LOCATION:St. Katharinenkirche\, An der Hauptwache\, Frankfurt\, 60313\, Deutschland
END:VEVENT
END:VCALENDAR