BEGIN:VCALENDAR
VERSION:2.0
PRODID:-//Musik in St. Katharinen - ECPv6.15.20//NONSGML v1.0//EN
CALSCALE:GREGORIAN
METHOD:PUBLISH
X-WR-CALNAME:Musik in St. Katharinen
X-ORIGINAL-URL:https://stk-musik.de
X-WR-CALDESC:Veranstaltungen für Musik in St. Katharinen
REFRESH-INTERVAL;VALUE=DURATION:PT1H
X-Robots-Tag:noindex
X-PUBLISHED-TTL:PT1H
BEGIN:VTIMEZONE
TZID:Europe/Berlin
BEGIN:DAYLIGHT
TZOFFSETFROM:+0100
TZOFFSETTO:+0200
TZNAME:CEST
DTSTART:20250330T010000
END:DAYLIGHT
BEGIN:STANDARD
TZOFFSETFROM:+0200
TZOFFSETTO:+0100
TZNAME:CET
DTSTART:20251026T010000
END:STANDARD
BEGIN:DAYLIGHT
TZOFFSETFROM:+0100
TZOFFSETTO:+0200
TZNAME:CEST
DTSTART:20260329T010000
END:DAYLIGHT
BEGIN:STANDARD
TZOFFSETFROM:+0200
TZOFFSETTO:+0100
TZNAME:CET
DTSTART:20261025T010000
END:STANDARD
BEGIN:DAYLIGHT
TZOFFSETFROM:+0100
TZOFFSETTO:+0200
TZNAME:CEST
DTSTART:20270328T010000
END:DAYLIGHT
BEGIN:STANDARD
TZOFFSETFROM:+0200
TZOFFSETTO:+0100
TZNAME:CET
DTSTART:20271031T010000
END:STANDARD
END:VTIMEZONE
BEGIN:VEVENT
DTSTART;TZID=Europe/Berlin:20261122T180000
DTEND;TZID=Europe/Berlin:20261122T203000
DTSTAMP:20260421T152029
CREATED:20251209T132921Z
LAST-MODIFIED:20260407T090000Z
UID:10000499-1795370400-1795379400@stk-musik.de
SUMMARY:Händel: The Triumph of Time and Truth
DESCRIPTION:Georg Friedrich Händel\nThe Triumph of Time and Truth\nHWV 71 \nBeauty: Emilie Jønsson\, Sopran\nDeceit: Sonja Haub\, Mezzosopran\nCounsel: David van Laar\, Countertenor\nPleasure: Erik Grevenbrock-Reinhardt\, Tenor\nTime: Tobias Haufler\, Bass \nKantorei St. Katharinen\nNeumeyer Consort\nMarkus Stein\, Leitung \nMit freundlicher Unterstützung der
URL:https://stk-musik.de/event/the-triumph-of-time-and-truth/
LOCATION:St. Katharinenkirche\, An der Hauptwache\, Frankfurt\, 60313\, Deutschland
END:VEVENT
END:VCALENDAR