BEGIN:VCALENDAR
VERSION:2.0
PRODID:-//Musik in St. Katharinen - ECPv6.15.20//NONSGML v1.0//EN
CALSCALE:GREGORIAN
METHOD:PUBLISH
X-WR-CALNAME:Musik in St. Katharinen
X-ORIGINAL-URL:https://stk-musik.de
X-WR-CALDESC:Veranstaltungen für Musik in St. Katharinen
REFRESH-INTERVAL;VALUE=DURATION:PT1H
X-Robots-Tag:noindex
X-PUBLISHED-TTL:PT1H
BEGIN:VTIMEZONE
TZID:Europe/Berlin
BEGIN:DAYLIGHT
TZOFFSETFROM:+0100
TZOFFSETTO:+0200
TZNAME:CEST
DTSTART:20250330T010000
END:DAYLIGHT
BEGIN:STANDARD
TZOFFSETFROM:+0200
TZOFFSETTO:+0100
TZNAME:CET
DTSTART:20251026T010000
END:STANDARD
BEGIN:DAYLIGHT
TZOFFSETFROM:+0100
TZOFFSETTO:+0200
TZNAME:CEST
DTSTART:20260329T010000
END:DAYLIGHT
BEGIN:STANDARD
TZOFFSETFROM:+0200
TZOFFSETTO:+0100
TZNAME:CET
DTSTART:20261025T010000
END:STANDARD
BEGIN:DAYLIGHT
TZOFFSETFROM:+0100
TZOFFSETTO:+0200
TZNAME:CEST
DTSTART:20270328T010000
END:DAYLIGHT
BEGIN:STANDARD
TZOFFSETFROM:+0200
TZOFFSETTO:+0100
TZNAME:CET
DTSTART:20271031T010000
END:STANDARD
END:VTIMEZONE
BEGIN:VEVENT
DTSTART;TZID=Europe/Berlin:20261205T180000
DTEND;TZID=Europe/Berlin:20261205T190000
DTSTAMP:20260421T144731
CREATED:20251110T084724Z
LAST-MODIFIED:20260114T083419Z
UID:10000495-1796493600-1796497200@stk-musik.de
SUMMARY:10. BachVesper mit Kantate BWV 62 "Nun komm\, der Heiden Heiland"
DESCRIPTION:Vokalsolisten\nKantorei St. Katharinen\nNeumeyer Consort\nProf. Markus Stein\, Leitung\nProf. Martin Lücker\, Orgel\nPfarrerin Lisa Neuhaus\, Liturgie und Predigt: \n17:30 Einführung\n18:00 Vespergottesdienst \n 
URL:https://stk-musik.de/event/10-bachvesper-mit-kantate-bwv-62-nun-komm-der-heiden-heiland/
LOCATION:St. Katharinenkirche\, An der Hauptwache\, Frankfurt\, 60313\, Deutschland
END:VEVENT
END:VCALENDAR